BEGIN:VCALENDAR
VERSION:2.0
PRODID:-//Guyra Cycling Community Inc - ECPv4.0.6//NONSGML v1.0//EN
CALSCALE:GREGORIAN
METHOD:PUBLISH
X-WR-CALNAME:Guyra Cycling Community Inc
X-ORIGINAL-URL:https://www.guyracycling.com.au
X-WR-CALDESC:Events for Guyra Cycling Community Inc
BEGIN:VEVENT
DTSTART;TZID="Australia/Sydney":20160401T080000
DTEND;TZID="Australia/Sydney":20160401T170000
DTSTAMP:20260424T193438
CREATED:20160314T023020
LAST-MODIFIED:20160314T231319
UID:14-1459497600-1459530000@www.guyracycling.com.au
SUMMARY:Facepernam eum quis es expedi debis mosa quo volore in
DESCRIPTION:Facepernam eum quis es expedi debis mosa quo volore in ne molo con nimincipsa is as ulparum fugitiume remquatur alis sit aped quat quibus cullece perspitionet perion pro volo offictu saecta sit fuga. Am fuga. Int quam el ma imagnihilit ommostem et aut od ut acienihit ium\, intur sam ulparum ex
URL:https://www.guyracycling.com.au/event/facepernam-eum-quis-es-expedi-debis-mosa-quo-volore-in/
ATTACH;FMTTYPE=image/jpeg:https://www.guyracycling.com.au/content/uploads/2016/03/header-banner.jpg
END:VEVENT
END:VCALENDAR