BEGIN:VCALENDAR
VERSION:2.0
PRODID:-//Guyra Cycling Community Inc - ECPv4.0.6//NONSGML v1.0//EN
CALSCALE:GREGORIAN
METHOD:PUBLISH
X-WR-CALNAME:Guyra Cycling Community Inc
X-ORIGINAL-URL:https://www.guyracycling.com.au
X-WR-CALDESC:Events for Guyra Cycling Community Inc
BEGIN:VEVENT
DTSTART;VALUE=DATE:20160813
DTEND;VALUE=DATE:20160813
DTSTAMP:20260424T192244
CREATED:20160627
LAST-MODIFIED:20160730
UID:161-1471046400-1471132799@www.guyracycling.com.au
SUMMARY:Gibraltar-Washpool Adventure Ride
DESCRIPTION:To borrow a phrase form a well known adventurer\, Sir Edmund Hillary\, its time to knock this "b-----d" off!\n\nThis is a serious adventure ride for strong riders and requires mental\, physical and logistical preparation. Be prepared for some varied and hard riding over some technical terrain at times.\n\nAnyone definitely interested please SMS Pete E. on 0438233228 so we can get an idea on firm numbers and availability of vehicles for travel to and from.\n\nPete E. is also calling for at least two other people with leadership and/or administrative skills to help with coordination which will occur via meeting (so let me know if you want to help out with the planning and preparation).\n\nYou can access all the info and maps from the National Parks site. A gold coin donation per rider should nearly take care of the $8.00 per vehicle day fee.\n\nThe mission is to ride through Gibraltar NP along the World Heritage Loop anticlockwise from the start point at Mulligan's Hut Campground (day use area) and finishing at the same point via Washpool NP.  The length is around 45km\, but there are also side trails that might be worth a look so allow at least 5 - 6 hours for the ride.\n\nWe will meet at 05:30am and depart the Info Centre (Rafters) at 06:00am to arrive around 07:45am. If all goes well\, we should be departing for Guyra at around 2-3:00pm to be home by 4-5:00pm (depending on whether make it past the Red Lion Tavern at Glencoe!).\n\nSuggested Personal Kit List:\n\n\tbike and helmet :o)\n\tspare tubes x2 (its a long walk out!!!)\n\tpump or x3 CO2 canisters\n\tSome old tubing or gaffer tape for a tyre patch\n\tsmall combination tool\n\tspare rear derailleur hanger (if you have one)\n\tsmall backpack with personal items including a light rain shell\, wind shirt or jumper\n\tfood - rough minimal estimates: men (2000-2500 calories of mostly carbs)\, women (1500-2000 calories) and plenty for after the ride including protein\n\tat least 2 water bottles with optional electrolyte tabs. There will be water along the way if you are happy to go native with untreated water.\n\tcamera\n\nGroup Kit List:\n\n\tspecialised tools\n\tsatellite phone\n\tfirst aid kit\n\tmap and GPS\n\tOperational Contingency Plans\n\nThis will be a sensational adventure so we hope to see you there :)\n\nHere is a little of the action from last time!
URL:https://www.guyracycling.com.au/event/gibraltar-washpool-adventure-ride/
ATTACH;FMTTYPE=image/jpeg:https://www.guyracycling.com.au/content/uploads/2016/06/GibWashNP-64.jpg
END:VEVENT
END:VCALENDAR